Package: DepecheR Version: 1.24.0 Command: /home/biocbuild/bbs-3.21-bioc/R/bin/R CMD check --install=check:DepecheR.install-out.txt --library=/home/biocbuild/bbs-3.21-bioc/R/site-library --timings DepecheR_1.24.0.tar.gz StartedAt: 2025-10-01 22:35:47 -0400 (Wed, 01 Oct 2025) EndedAt: 2025-10-01 22:38:47 -0400 (Wed, 01 Oct 2025) EllapsedTime: 180.3 seconds RetCode: 0 Status: OK CheckDir: DepecheR.Rcheck Warnings: 0