Package: DepecheR Version: 1.24.0 Command: /home/biocbuild/R/R/bin/R CMD INSTALL DepecheR StartedAt: 2025-10-06 20:21:35 -0000 (Mon, 06 Oct 2025) EndedAt: 2025-10-06 20:22:22 -0000 (Mon, 06 Oct 2025) EllapsedTime: 46.7 seconds RetCode: 0 Status: OK