Package: DepecheR Version: 1.24.0 Command: /home/biocbuild/R/R/bin/R CMD build --keep-empty-dirs --no-resave-data DepecheR StartedAt: 2025-10-07 00:19:30 -0000 (Tue, 07 Oct 2025) EndedAt: 2025-10-07 00:20:50 -0000 (Tue, 07 Oct 2025) EllapsedTime: 80.0 seconds RetCode: 0 Status: OK PackageFile: DepecheR_1.24.0.tar.gz PackageFileSize: 2.686 MiB