Package: DepecheR Version: 1.24.0 Command: /Library/Frameworks/R.framework/Resources/bin/R CMD build --keep-empty-dirs --no-resave-data DepecheR StartedAt: 2025-04-21 16:09:23 -0400 (Mon, 21 Apr 2025) EndedAt: 2025-04-21 16:09:47 -0400 (Mon, 21 Apr 2025) EllapsedTime: 23.3 seconds RetCode: 0 Status: OK PackageFile: DepecheR_1.24.0.tar.gz PackageFileSize: 2.561 MiB