Package: DepecheR Version: 1.24.0 Command: /Library/Frameworks/R.framework/Resources/bin/R CMD INSTALL DepecheR StartedAt: 2025-10-13 15:29:43 -0400 (Mon, 13 Oct 2025) EndedAt: 2025-10-13 15:30:13 -0400 (Mon, 13 Oct 2025) EllapsedTime: 30.1 seconds RetCode: 0 Status: OK