Package: DepecheR Version: 1.24.0 Command: /Library/Frameworks/R.framework/Resources/bin/R CMD check --install=check:DepecheR.install-out.txt --library=/Library/Frameworks/R.framework/Resources/library --no-vignettes --timings DepecheR_1.24.0.tar.gz StartedAt: 2025-10-14 19:18:44 -0400 (Tue, 14 Oct 2025) EndedAt: 2025-10-14 19:21:18 -0400 (Tue, 14 Oct 2025) EllapsedTime: 153.1 seconds RetCode: 0 Status: OK CheckDir: DepecheR.Rcheck Warnings: 0