Package: DepInfeR Version: 1.12.0 Command: rm -rf DepInfeR.buildbin-libdir && mkdir DepInfeR.buildbin-libdir && /Users/biocbuild/BBS/utils/build-universal.sh DepInfeR_1.12.0.tar.gz /Library/Frameworks/R.framework/Resources/bin/R DepInfeR.buildbin-libdir StartedAt: 2025-09-30 13:01:21 -0400 (Tue, 30 Sep 2025) EndedAt: 2025-09-30 13:01:46 -0400 (Tue, 30 Sep 2025) EllapsedTime: 25.0 seconds RetCode: 0 Status: OK PackageFile: DepInfeR_1.12.0.tgz PackageFileSize: 2.357 MiB