Package: DelayedMatrixStats Version: 1.30.0 Command: /home/biocbuild/bbs-3.21-bioc/R/bin/R CMD check --install=check:DelayedMatrixStats.install-out.txt --library=/home/biocbuild/bbs-3.21-bioc/R/site-library --timings DelayedMatrixStats_1.30.0.tar.gz StartedAt: 2025-10-15 22:29:45 -0400 (Wed, 15 Oct 2025) EndedAt: 2025-10-15 22:38:45 -0400 (Wed, 15 Oct 2025) EllapsedTime: 540.7 seconds RetCode: 0 Status: OK CheckDir: DelayedMatrixStats.Rcheck Warnings: 0