Package: DelayedMatrixStats Version: 1.30.0 Command: /home/biocbuild/bbs-3.21-bioc/R/bin/R CMD build --keep-empty-dirs --no-resave-data DelayedMatrixStats StartedAt: 2025-10-15 17:08:54 -0400 (Wed, 15 Oct 2025) EndedAt: 2025-10-15 17:13:09 -0400 (Wed, 15 Oct 2025) EllapsedTime: 255.2 seconds RetCode: 0 Status: OK PackageFile: DelayedMatrixStats_1.30.0.tar.gz PackageFileSize: 264.4 KiB