Package: DelayedMatrixStats Version: 1.30.0 Command: rm -rf DelayedMatrixStats.buildbin-libdir && mkdir DelayedMatrixStats.buildbin-libdir && /Users/biocbuild/BBS/utils/build-universal.sh DelayedMatrixStats_1.30.0.tar.gz /Library/Frameworks/R.framework/Resources/bin/R DelayedMatrixStats.buildbin-libdir StartedAt: 2025-10-15 18:10:57 -0400 (Wed, 15 Oct 2025) EndedAt: 2025-10-15 18:11:24 -0400 (Wed, 15 Oct 2025) EllapsedTime: 27.1 seconds RetCode: 0 Status: OK PackageFile: DelayedMatrixStats_1.30.0.tgz PackageFileSize: 725.5 KiB