Package: DelayedArray Version: 0.34.1 Command: set _R_CHECK_CODETOOLS_PROFILE_='suppressFundefMismatch=TRUE'&& E:\biocbuild\bbs-3.21-bioc\R\bin\R.exe CMD check --no-multiarch --install=check:DelayedArray.install-out.txt --library=E:\biocbuild\bbs-3.21-bioc\R\library --no-vignettes --timings DelayedArray_0.34.1.tar.gz StartedAt: 2025-08-15 01:19:59 -0400 (Fri, 15 Aug 2025) EndedAt: 2025-08-15 01:54:42 -0400 (Fri, 15 Aug 2025) EllapsedTime: 2083.0 seconds RetCode: 0 Status: WARNINGS CheckDir: DelayedArray.Rcheck Warnings: 1