Package: DelayedArray Version: 0.34.1 Command: _R_CHECK_CODETOOLS_PROFILE_="suppressFundefMismatch=TRUE" /home/biocbuild/bbs-3.21-bioc/R/bin/R CMD check --install=check:DelayedArray.install-out.txt --library=/home/biocbuild/bbs-3.21-bioc/R/site-library --timings DelayedArray_0.34.1.tar.gz StartedAt: 2025-10-15 22:29:28 -0400 (Wed, 15 Oct 2025) EndedAt: 2025-10-15 22:54:18 -0400 (Wed, 15 Oct 2025) EllapsedTime: 1489.9 seconds RetCode: 0 Status: WARNINGS CheckDir: DelayedArray.Rcheck Warnings: 1