Package: DelayedArray Version: 0.34.1 Command: /Library/Frameworks/R.framework/Resources/bin/R CMD build --keep-empty-dirs --no-resave-data DelayedArray StartedAt: 2025-10-13 22:56:16 -0400 (Mon, 13 Oct 2025) EndedAt: 2025-10-13 22:57:38 -0400 (Mon, 13 Oct 2025) EllapsedTime: 81.4 seconds RetCode: 0 Status: OK PackageFile: DelayedArray_0.34.1.tar.gz PackageFileSize: 793.9 KiB