Package: DegCre Version: 1.4.0 Command: E:\biocbuild\bbs-3.21-bioc\R\bin\R.exe CMD INSTALL DegCre StartedAt: 2025-08-14 16:48:08 -0400 (Thu, 14 Aug 2025) EndedAt: 2025-08-14 16:49:13 -0400 (Thu, 14 Aug 2025) EllapsedTime: 65.2 seconds RetCode: 0 Status: OK