Package: DeepTarget Version: 1.2.0 Command: rm -rf DeepTarget.buildbin-libdir && mkdir DeepTarget.buildbin-libdir && E:\biocbuild\bbs-3.21-bioc\R\bin\R.exe CMD INSTALL --build --library=DeepTarget.buildbin-libdir DeepTarget_1.2.0.tar.gz StartedAt: 2025-08-15 09:08:15 -0400 (Fri, 15 Aug 2025) EndedAt: 2025-08-15 09:08:54 -0400 (Fri, 15 Aug 2025) EllapsedTime: 38.4 seconds RetCode: 0 Status: OK PackageFile: DeepTarget_1.2.0.zip PackageFileSize: 2.383 MiB