Package: DeepTarget Version: 1.2.0 Command: /home/biocbuild/bbs-3.21-bioc/R/bin/R CMD INSTALL DeepTarget StartedAt: 2025-10-15 15:29:59 -0400 (Wed, 15 Oct 2025) EndedAt: 2025-10-15 15:30:21 -0400 (Wed, 15 Oct 2025) EllapsedTime: 22.2 seconds RetCode: 0 Status: OK