Package: DeepTarget Version: 1.2.0 Command: /Library/Frameworks/R.framework/Resources/bin/R CMD check --install=check:DeepTarget.install-out.txt --library=/Library/Frameworks/R.framework/Resources/library --no-vignettes --timings DeepTarget_1.2.0.tar.gz StartedAt: 2025-09-26 02:36:20 -0400 (Fri, 26 Sep 2025) EndedAt: 2025-09-26 02:44:37 -0400 (Fri, 26 Sep 2025) EllapsedTime: 497.1 seconds RetCode: 0 Status: OK CheckDir: DeepTarget.Rcheck Warnings: 0