Package: DeepTarget Version: 1.2.0 Command: /Library/Frameworks/R.framework/Resources/bin/R CMD build --keep-empty-dirs --no-resave-data DeepTarget StartedAt: 2025-09-25 18:25:33 -0400 (Thu, 25 Sep 2025) EndedAt: 2025-09-25 18:27:35 -0400 (Thu, 25 Sep 2025) EllapsedTime: 121.6 seconds RetCode: 0 Status: OK PackageFile: DeepTarget_1.2.0.tar.gz PackageFileSize: 2.796 MiB