Package: DeepTarget Version: 1.2.0 Command: rm -rf DeepTarget.buildbin-libdir && mkdir DeepTarget.buildbin-libdir && /Users/biocbuild/BBS/utils/build-universal.sh DeepTarget_1.2.0.tar.gz /Library/Frameworks/R.framework/Resources/bin/R DeepTarget.buildbin-libdir StartedAt: 2025-09-26 13:28:28 -0400 (Fri, 26 Sep 2025) EndedAt: 2025-09-26 13:43:42 -0400 (Fri, 26 Sep 2025) EllapsedTime: 913.9 seconds RetCode: 0 Status: OK PackageFile: DeepTarget_1.2.0.tgz PackageFileSize: 2.837 MiB