Package: DeepTarget Version: 1.2.0 Command: /Library/Frameworks/R.framework/Resources/bin/R CMD check --install=check:DeepTarget.install-out.txt --library=/Library/Frameworks/R.framework/Resources/library --no-vignettes --timings DeepTarget_1.2.0.tar.gz StartedAt: 2025-10-14 18:59:15 -0400 (Tue, 14 Oct 2025) EndedAt: 2025-10-14 19:03:50 -0400 (Tue, 14 Oct 2025) EllapsedTime: 274.7 seconds RetCode: 0 Status: OK CheckDir: DeepTarget.Rcheck Warnings: 0