Package: DeconvoBuddies Version: 1.0.1 Command: E:\biocbuild\bbs-3.21-bioc\R\bin\R.exe CMD INSTALL DeconvoBuddies StartedAt: 2025-08-14 16:32:55 -0400 (Thu, 14 Aug 2025) EndedAt: 2025-08-14 16:34:03 -0400 (Thu, 14 Aug 2025) EllapsedTime: 68.2 seconds RetCode: 0 Status: OK