Package: DeconvoBuddies Version: 1.0.0 Command: rm -rf DeconvoBuddies.buildbin-libdir && mkdir DeconvoBuddies.buildbin-libdir && E:\biocbuild\bbs-3.21-bioc\R\bin\R.exe CMD INSTALL --build --library=DeconvoBuddies.buildbin-libdir DeconvoBuddies_1.0.0.tar.gz StartedAt: 2025-06-13 08:59:45 -0400 (Fri, 13 Jun 2025) EndedAt: 2025-06-13 09:01:08 -0400 (Fri, 13 Jun 2025) EllapsedTime: 83.2 seconds RetCode: 0 Status: OK PackageFile: DeconvoBuddies_1.0.0.zip PackageFileSize: 4.722 MiB