Package: DeconvoBuddies Version: 1.0.1 Command: /home/biocbuild/bbs-3.21-bioc/R/bin/R CMD INSTALL DeconvoBuddies StartedAt: 2025-10-05 15:53:48 -0400 (Sun, 05 Oct 2025) EndedAt: 2025-10-05 15:54:36 -0400 (Sun, 05 Oct 2025) EllapsedTime: 48.4 seconds RetCode: 0 Status: OK