Package: DeconvoBuddies Version: 1.0.1 Command: /Library/Frameworks/R.framework/Resources/bin/R CMD INSTALL DeconvoBuddies StartedAt: 2025-10-13 16:43:45 -0400 (Mon, 13 Oct 2025) EndedAt: 2025-10-13 16:45:26 -0400 (Mon, 13 Oct 2025) EllapsedTime: 100.4 seconds RetCode: 0 Status: OK