Package: DeconvoBuddies Version: 1.0.0 Command: rm -rf DeconvoBuddies.buildbin-libdir && mkdir DeconvoBuddies.buildbin-libdir && /Users/biocbuild/BBS/utils/build-universal.sh DeconvoBuddies_1.0.0.tar.gz /Library/Frameworks/R.framework/Resources/bin/R DeconvoBuddies.buildbin-libdir StartedAt: 2025-04-22 00:41:34 -0400 (Tue, 22 Apr 2025) EndedAt: 2025-04-22 00:42:40 -0400 (Tue, 22 Apr 2025) EllapsedTime: 65.7 seconds RetCode: 0 Status: OK PackageFile: DeconvoBuddies_1.0.0.tgz PackageFileSize: 6.179 MiB