Package: DeconvoBuddies Version: 1.0.0 Command: /Library/Frameworks/R.framework/Resources/bin/R CMD check --install=check:DeconvoBuddies.install-out.txt --library=/Library/Frameworks/R.framework/Resources/library --no-vignettes --timings DeconvoBuddies_1.0.0.tar.gz StartedAt: 2025-04-21 19:00:24 -0400 (Mon, 21 Apr 2025) EndedAt: 2025-04-21 19:03:15 -0400 (Mon, 21 Apr 2025) EllapsedTime: 170.9 seconds RetCode: 0 Status: OK CheckDir: DeconvoBuddies.Rcheck Warnings: 0