Package: DeconvoBuddies Version: 1.0.0 Command: rm -rf DeconvoBuddies.buildbin-libdir && mkdir DeconvoBuddies.buildbin-libdir && /Users/biocbuild/BBS/utils/build-universal.sh DeconvoBuddies_1.0.0.tar.gz /Library/Frameworks/R.framework/Resources/bin/R DeconvoBuddies.buildbin-libdir StartedAt: 2025-06-14 15:18:20 -0400 (Sat, 14 Jun 2025) EndedAt: 2025-06-14 15:19:20 -0400 (Sat, 14 Jun 2025) EllapsedTime: 59.9 seconds RetCode: 0 Status: OK PackageFile: DeconvoBuddies_1.0.0.tgz PackageFileSize: 6.228 MiB