Package: DeconRNASeq Version: 1.50.0 Command: chmod a+r DeconRNASeq -R && E:\biocbuild\bbs-3.21-bioc\R\bin\R.exe CMD build --keep-empty-dirs --no-resave-data DeconRNASeq StartedAt: 2025-08-14 18:27:36 -0400 (Thu, 14 Aug 2025) EndedAt: 2025-08-14 18:28:11 -0400 (Thu, 14 Aug 2025) EllapsedTime: 34.9 seconds RetCode: 0 Status: OK PackageFile: DeconRNASeq_1.50.0.tar.gz PackageFileSize: 6.541 MiB