Package: DeMAND Version: 1.38.0 Command: /Library/Frameworks/R.framework/Resources/bin/R CMD INSTALL DeMAND StartedAt: 2025-10-02 15:15:06 -0400 (Thu, 02 Oct 2025) EndedAt: 2025-10-02 15:15:08 -0400 (Thu, 02 Oct 2025) EllapsedTime: 2.5 seconds RetCode: 0 Status: OK