Package: DeMAND Version: 1.38.0 Command: rm -rf DeMAND.buildbin-libdir && mkdir DeMAND.buildbin-libdir && /Users/biocbuild/BBS/utils/build-universal.sh DeMAND_1.38.0.tar.gz /Library/Frameworks/R.framework/Resources/bin/R DeMAND.buildbin-libdir StartedAt: 2025-10-04 17:41:41 -0400 (Sat, 04 Oct 2025) EndedAt: 2025-10-04 17:41:44 -0400 (Sat, 04 Oct 2025) EllapsedTime: 3.5 seconds RetCode: 0 Status: OK PackageFile: DeMAND_1.38.0.tgz PackageFileSize: 351.3 KiB