Package: DTA Version: 2.54.0 Command: /home/biocbuild/bbs-3.21-bioc/R/bin/R CMD INSTALL DTA StartedAt: 2025-10-15 15:03:03 -0400 (Wed, 15 Oct 2025) EndedAt: 2025-10-15 15:03:24 -0400 (Wed, 15 Oct 2025) EllapsedTime: 21.7 seconds RetCode: 0 Status: OK