Package: DTA Version: 2.54.0 Command: /home/biocbuild/R/R/bin/R CMD INSTALL DTA StartedAt: 2025-10-13 20:13:54 -0000 (Mon, 13 Oct 2025) EndedAt: 2025-10-13 20:14:25 -0000 (Mon, 13 Oct 2025) EllapsedTime: 31.2 seconds RetCode: 0 Status: OK