Package: DTA Version: 2.54.0 Command: rm -rf DTA.buildbin-libdir && mkdir DTA.buildbin-libdir && /Users/biocbuild/BBS/utils/build-universal.sh DTA_2.54.0.tar.gz /Library/Frameworks/R.framework/Resources/bin/R DTA.buildbin-libdir StartedAt: 2025-04-21 22:33:44 -0400 (Mon, 21 Apr 2025) EndedAt: 2025-04-21 22:33:48 -0400 (Mon, 21 Apr 2025) EllapsedTime: 4.1 seconds RetCode: 0 Status: OK PackageFile: DTA_2.54.0.tgz PackageFileSize: 9.309 MiB