Package: DSS Version: 2.56.0 Command: /Library/Frameworks/R.framework/Resources/bin/R CMD INSTALL DSS StartedAt: 2025-10-13 16:06:44 -0400 (Mon, 13 Oct 2025) EndedAt: 2025-10-13 16:08:09 -0400 (Mon, 13 Oct 2025) EllapsedTime: 85.3 seconds RetCode: 0 Status: OK