Package: DSS Version: 2.56.0 Command: rm -rf DSS.buildbin-libdir && mkdir DSS.buildbin-libdir && /Users/biocbuild/BBS/utils/build-universal.sh DSS_2.56.0.tar.gz /Library/Frameworks/R.framework/Resources/bin/R DSS.buildbin-libdir StartedAt: 2025-10-14 13:20:16 -0400 (Tue, 14 Oct 2025) EndedAt: 2025-10-14 13:22:20 -0400 (Tue, 14 Oct 2025) EllapsedTime: 124.2 seconds RetCode: 0 Status: OK PackageFile: DSS_2.56.0.tgz PackageFileSize: 1.6 MiB