Package: DSS Version: 2.56.0 Command: /Library/Frameworks/R.framework/Resources/bin/R CMD check --install=check:DSS.install-out.txt --library=/Library/Frameworks/R.framework/Resources/library --no-vignettes --timings DSS_2.56.0.tar.gz StartedAt: 2025-04-21 19:12:06 -0400 (Mon, 21 Apr 2025) EndedAt: 2025-04-21 19:13:56 -0400 (Mon, 21 Apr 2025) EllapsedTime: 110.3 seconds RetCode: 0 Status: WARNINGS CheckDir: DSS.Rcheck Warnings: 1