Package: DOSE Version: 4.2.0 Command: /Library/Frameworks/R.framework/Resources/bin/R CMD build --keep-empty-dirs --no-resave-data DOSE StartedAt: 2025-04-21 16:39:43 -0400 (Mon, 21 Apr 2025) EndedAt: 2025-04-21 16:40:27 -0400 (Mon, 21 Apr 2025) EllapsedTime: 44.6 seconds RetCode: 0 Status: OK PackageFile: DOSE_4.2.0.tar.gz PackageFileSize: 5.479 MiB