Package: DOSE Version: 4.2.0 Command: /home/biocbuild/R/R/bin/R CMD build --keep-empty-dirs --no-resave-data DOSE StartedAt: 2025-09-26 00:50:43 -0000 (Fri, 26 Sep 2025) EndedAt: 2025-09-26 00:51:27 -0000 (Fri, 26 Sep 2025) EllapsedTime: 44.0 seconds RetCode: 0 Status: OK PackageFile: DOSE_4.2.0.tar.gz PackageFileSize: 5.48 MiB