Package: DNAfusion Version: 1.10.0 Command: /home/biocbuild/bbs-3.21-bioc/R/bin/R CMD build --keep-empty-dirs --no-resave-data DNAfusion StartedAt: 2025-10-15 17:16:36 -0400 (Wed, 15 Oct 2025) EndedAt: 2025-10-15 17:19:55 -0400 (Wed, 15 Oct 2025) EllapsedTime: 198.2 seconds RetCode: 0 Status: OK PackageFile: DNAfusion_1.10.0.tar.gz PackageFileSize: 6.298 MiB