Package: DMRcate Version: 3.4.0 Command: chmod a+r DMRcate -R && E:\biocbuild\bbs-3.21-bioc\R\bin\R.exe CMD build --keep-empty-dirs --no-resave-data DMRcate StartedAt: 2025-08-14 18:40:36 -0400 (Thu, 14 Aug 2025) EndedAt: 2025-08-14 19:10:07 -0400 (Thu, 14 Aug 2025) EllapsedTime: 1770.9 seconds RetCode: 0 Status: OK PackageFile: DMRcate_3.4.0.tar.gz PackageFileSize: 810 KiB