Package: DMRcate Version: 3.4.1 Command: /Library/Frameworks/R.framework/Resources/bin/R CMD check --install=check:DMRcate.install-out.txt --library=/Library/Frameworks/R.framework/Resources/library --no-vignettes --timings DMRcate_3.4.1.tar.gz StartedAt: 2025-10-14 03:01:19 -0400 (Tue, 14 Oct 2025) EndedAt: 2025-10-14 03:36:54 -0400 (Tue, 14 Oct 2025) EllapsedTime: 2135.4 seconds RetCode: 0 Status: OK CheckDir: DMRcate.Rcheck Warnings: 0