Package: DMRcate Version: 3.4.1 Command: rm -rf DMRcate.buildbin-libdir && mkdir DMRcate.buildbin-libdir && /Users/biocbuild/BBS/utils/build-universal.sh DMRcate_3.4.1.tar.gz /Library/Frameworks/R.framework/Resources/bin/R DMRcate.buildbin-libdir StartedAt: 2025-10-14 13:18:18 -0400 (Tue, 14 Oct 2025) EndedAt: 2025-10-14 13:21:44 -0400 (Tue, 14 Oct 2025) EllapsedTime: 206.1 seconds RetCode: 0 Status: OK PackageFile: DMRcate_3.4.1.tgz PackageFileSize: 1.156 MiB