Package: DMRcate Version: 3.4.0 Command: /Library/Frameworks/R.framework/Resources/bin/R CMD INSTALL DMRcate StartedAt: 2025-04-21 15:52:10 -0400 (Mon, 21 Apr 2025) EndedAt: 2025-04-21 15:52:54 -0400 (Mon, 21 Apr 2025) EllapsedTime: 44.5 seconds RetCode: 0 Status: OK