Package: DMRcate Version: 3.4.0 Command: /Library/Frameworks/R.framework/Resources/bin/R CMD build --keep-empty-dirs --no-resave-data DMRcate StartedAt: 2025-04-21 16:38:24 -0400 (Mon, 21 Apr 2025) EndedAt: 2025-04-21 16:55:01 -0400 (Mon, 21 Apr 2025) EllapsedTime: 997.2 seconds RetCode: 0 Status: OK PackageFile: DMRcate_3.4.0.tar.gz PackageFileSize: 817.8 KiB