Package: DMRcate Version: 3.4.0 Command: rm -rf DMRcate.buildbin-libdir && mkdir DMRcate.buildbin-libdir && /Users/biocbuild/BBS/utils/build-universal.sh DMRcate_3.4.0.tar.gz /Library/Frameworks/R.framework/Resources/bin/R DMRcate.buildbin-libdir StartedAt: 2025-04-22 00:43:01 -0400 (Tue, 22 Apr 2025) EndedAt: 2025-04-22 00:44:31 -0400 (Tue, 22 Apr 2025) EllapsedTime: 90.4 seconds RetCode: 0 Status: OK PackageFile: DMRcate_3.4.0.tgz PackageFileSize: 1.157 MiB