Package: DMRcate Version: 3.4.1 Command: /home/biocbuild/R/R/bin/R CMD INSTALL DMRcate StartedAt: 2025-10-13 21:25:48 -0000 (Mon, 13 Oct 2025) EndedAt: 2025-10-13 21:27:14 -0000 (Mon, 13 Oct 2025) EllapsedTime: 86.3 seconds RetCode: 0 Status: OK