Package: DMRcate Version: 3.4.0 Command: /Library/Frameworks/R.framework/Resources/bin/R CMD check --install=check:DMRcate.install-out.txt --library=/Library/Frameworks/R.framework/Resources/library --no-vignettes --timings DMRcate_3.4.0.tar.gz StartedAt: 2025-04-21 19:09:17 -0400 (Mon, 21 Apr 2025) EndedAt: 2025-04-21 19:18:09 -0400 (Mon, 21 Apr 2025) EllapsedTime: 532.4 seconds RetCode: 0 Status: OK CheckDir: DMRcate.Rcheck Warnings: 0