Package: DMRcaller Version: 1.40.0 Command: /Library/Frameworks/R.framework/Resources/bin/R CMD INSTALL DMRcaller StartedAt: 2025-10-13 15:30:27 -0400 (Mon, 13 Oct 2025) EndedAt: 2025-10-13 15:30:57 -0400 (Mon, 13 Oct 2025) EllapsedTime: 30.4 seconds RetCode: 0 Status: OK