Package: DMRcaller Version: 1.40.0 Command: rm -rf DMRcaller.buildbin-libdir && mkdir DMRcaller.buildbin-libdir && /Users/biocbuild/BBS/utils/build-universal.sh DMRcaller_1.40.0.tar.gz /Library/Frameworks/R.framework/Resources/bin/R DMRcaller.buildbin-libdir StartedAt: 2025-10-14 13:18:16 -0400 (Tue, 14 Oct 2025) EndedAt: 2025-10-14 13:19:13 -0400 (Tue, 14 Oct 2025) EllapsedTime: 56.7 seconds RetCode: 0 Status: OK PackageFile: DMRcaller_1.40.0.tgz PackageFileSize: 1.846 MiB