Package: DMRcaller Version: 1.40.0 Command: /home/biocbuild/R/R/bin/R CMD INSTALL DMRcaller StartedAt: 2025-10-13 20:28:30 -0000 (Mon, 13 Oct 2025) EndedAt: 2025-10-13 20:28:49 -0000 (Mon, 13 Oct 2025) EllapsedTime: 18.3 seconds RetCode: 0 Status: OK